BEGIN:VCALENDAR
VERSION:2.0
PRODID:-//jEvents 2.0 for Joomla//EN
CALSCALE:GREGORIAN
METHOD:PUBLISH
BEGIN:VTIMEZONE
TZID:Europe/Berlin
BEGIN:STANDARD
DTSTART:20231029T020000
RDATE:20240331T030000
TZOFFSETFROM:+0200
TZOFFSETTO:+0100
TZNAME:Europe/Berlin CET
END:STANDARD
BEGIN:STANDARD
DTSTART:20241027T020000
RDATE:20250330T030000
TZOFFSETFROM:+0200
TZOFFSETTO:+0100
TZNAME:Europe/Berlin CET
END:STANDARD
BEGIN:DAYLIGHT
DTSTART:20230503T190000
RDATE:20231029T020000
TZOFFSETFROM:+0100
TZOFFSETTO:+0200
TZNAME:Europe/Berlin CEST
END:DAYLIGHT
BEGIN:DAYLIGHT
DTSTART:20240331T030000
RDATE:20241027T020000
TZOFFSETFROM:+0100
TZOFFSETTO:+0200
TZNAME:Europe/Berlin CEST
END:DAYLIGHT
END:VTIMEZONE
BEGIN:VEVENT
UID:CSVConverte3c1023ee39782da5fb920a991aede8c
CATEGORIES:Ü50
CREATED:20240119T114530
SUMMARY:RSV Mellensee Ü50 - BSC Preußen 07 Ü50
LOCATION:BBG-Arena Mellensee
DESCRIPTION:Alt-Senioren Ü50 Staffel B
DTSTAMP:20260424T062109
DTSTART;TZID=Europe/Berlin:20240503T190000
DTEND;TZID=Europe/Berlin:20240503T200000
SEQUENCE:0
TRANSP:OPAQUE
END:VEVENT
END:VCALENDAR