BEGIN:VCALENDAR
VERSION:2.0
PRODID:-//jEvents 2.0 for Joomla//EN
CALSCALE:GREGORIAN
METHOD:PUBLISH
BEGIN:VTIMEZONE
TZID:Europe/Berlin
BEGIN:STANDARD
DTSTART:20230303T130000
RDATE:20230326T030000
TZOFFSETFROM:+0200
TZOFFSETTO:+0100
TZNAME:Europe/Berlin CET
END:STANDARD
BEGIN:STANDARD
DTSTART:20231029T020000
RDATE:20240331T030000
TZOFFSETFROM:+0200
TZOFFSETTO:+0100
TZNAME:Europe/Berlin CET
END:STANDARD
BEGIN:STANDARD
DTSTART:20241027T020000
RDATE:20250330T030000
TZOFFSETFROM:+0200
TZOFFSETTO:+0100
TZNAME:Europe/Berlin CET
END:STANDARD
BEGIN:DAYLIGHT
DTSTART:20230326T030000
RDATE:20231029T020000
TZOFFSETFROM:+0100
TZOFFSETTO:+0200
TZNAME:Europe/Berlin CEST
END:DAYLIGHT
BEGIN:DAYLIGHT
DTSTART:20240331T030000
RDATE:20241027T020000
TZOFFSETFROM:+0100
TZOFFSETTO:+0200
TZNAME:Europe/Berlin CEST
END:DAYLIGHT
END:VTIMEZONE
BEGIN:VEVENT
UID:CSVConvert5f7bea45f23b8b87eefee72b4b30d21a
CATEGORIES:M1
CREATED:20240119T114530
SUMMARY:SpG Sperenberg/Mellensee/Wünsdorf - Ajax Eichwalde
LOCATION:Sportplatz Kummersdorf-Gut
DESCRIPTION:Herren 1. Kreisklasse Staffel A\n
X-ALT-DESC;FMTTYPE=text/html:<p>Herren 1. Kreisklasse Staffel A</p>
DTSTAMP:20260423T213355
DTSTART;TZID=Europe/Berlin:20240303T130000
DTEND;TZID=Europe/Berlin:20240303T140000
SEQUENCE:0
TRANSP:OPAQUE
END:VEVENT
END:VCALENDAR