BEGIN:VCALENDAR
VERSION:2.0
PRODID:-//jEvents 2.0 for Joomla//EN
CALSCALE:GREGORIAN
METHOD:PUBLISH
BEGIN:VTIMEZONE
TZID:Europe/Berlin
BEGIN:STANDARD
DTSTART:20241027T020000
RDATE:20250330T030000
TZOFFSETFROM:+0200
TZOFFSETTO:+0100
TZNAME:Europe/Berlin CET
END:STANDARD
BEGIN:DAYLIGHT
DTSTART:20241022T000000
RDATE:20241027T020000
TZOFFSETFROM:+0100
TZOFFSETTO:+0200
TZNAME:Europe/Berlin CEST
END:DAYLIGHT
END:VTIMEZONE
BEGIN:VEVENT
UID:CSVConvert05172d9ef0a0cc18d7ef60631daae182
CATEGORIES:Leichtathletik
CREATED:20240206T171325
SUMMARY:Stützpunktpokal+Senftenberg
LOCATION:Potsdam
DESCRIPTION:
DTSTAMP:20260423T231427
DTSTART;TZID=Europe/Berlin;VALUE=DATE:20251023
DTEND;TZID=Europe/Berlin;VALUE=DATE:20251024
SEQUENCE:0
TRANSP:OPAQUE
END:VEVENT
END:VCALENDAR