BEGIN:VCALENDAR
VERSION:2.0
PRODID:-//jEvents 2.0 for Joomla//EN
CALSCALE:GREGORIAN
METHOD:PUBLISH
BEGIN:VTIMEZONE
TZID:Europe/Berlin
BEGIN:STANDARD
DTSTART:20231029T020000
RDATE:20240331T030000
TZOFFSETFROM:+0200
TZOFFSETTO:+0100
TZNAME:Europe/Berlin CET
END:STANDARD
BEGIN:STANDARD
DTSTART:20241027T020000
RDATE:20250330T030000
TZOFFSETFROM:+0200
TZOFFSETTO:+0100
TZNAME:Europe/Berlin CET
END:STANDARD
BEGIN:DAYLIGHT
DTSTART:20230329T010000
RDATE:20231029T020000
TZOFFSETFROM:+0100
TZOFFSETTO:+0200
TZNAME:Europe/Berlin CEST
END:DAYLIGHT
BEGIN:DAYLIGHT
DTSTART:20240331T030000
RDATE:20241027T020000
TZOFFSETFROM:+0100
TZOFFSETTO:+0200
TZNAME:Europe/Berlin CEST
END:DAYLIGHT
END:VTIMEZONE
BEGIN:VEVENT
UID:CSVConvertf42e94dd82479779143896addfc50997
CATEGORIES:Leichtathletik
CREATED:20240206T171325
SUMMARY:Kreismeisterschaft TF
LOCATION:Ludwigsfelde
DESCRIPTION:u10-Erw.
DTSTAMP:20260423T213356
DTSTART;TZID=Europe/Berlin;VALUE=DATE:20240329
DTEND;TZID=Europe/Berlin;VALUE=DATE:20240330
SEQUENCE:0
TRANSP:OPAQUE
END:VEVENT
END:VCALENDAR