BEGIN:VCALENDAR
VERSION:2.0
PRODID:-//jEvents 2.0 for Joomla//EN
CALSCALE:GREGORIAN
METHOD:PUBLISH
BEGIN:VTIMEZONE
TZID:Europe/Berlin
BEGIN:STANDARD
DTSTART:20231029T020000
RDATE:20240331T030000
TZOFFSETFROM:+0200
TZOFFSETTO:+0100
TZNAME:Europe/Berlin CET
END:STANDARD
BEGIN:STANDARD
DTSTART:20241027T020000
RDATE:20250330T030000
TZOFFSETFROM:+0200
TZOFFSETTO:+0100
TZNAME:Europe/Berlin CET
END:STANDARD
BEGIN:DAYLIGHT
DTSTART:20230512T090000
RDATE:20231029T020000
TZOFFSETFROM:+0100
TZOFFSETTO:+0200
TZNAME:Europe/Berlin CEST
END:DAYLIGHT
BEGIN:DAYLIGHT
DTSTART:20240331T030000
RDATE:20241027T020000
TZOFFSETFROM:+0100
TZOFFSETTO:+0200
TZNAME:Europe/Berlin CEST
END:DAYLIGHT
END:VTIMEZONE
BEGIN:VEVENT
UID:CSVConvert738aca323cfcabb524ad77971871fced
CATEGORIES:E-Jun
CREATED:20240416T204441
SUMMARY:FSV Eintracht 1910 Königs Wusterhausen I - SpG Sperenberg/Mellensee
LOCATION:Sportplatz Zeesen
DESCRIPTION:
DTSTAMP:20260424T033314
DTSTART;TZID=Europe/Berlin:20240512T090000
DTEND;TZID=Europe/Berlin:20240512T100000
SEQUENCE:0
TRANSP:OPAQUE
END:VEVENT
END:VCALENDAR