BEGIN:VCALENDAR
VERSION:2.0
PRODID:-//jEvents 2.0 for Joomla//EN
CALSCALE:GREGORIAN
METHOD:PUBLISH
BEGIN:VTIMEZONE
TZID:Europe/Berlin
BEGIN:STANDARD
DTSTART:20231029T020000
RDATE:20240331T030000
TZOFFSETFROM:+0200
TZOFFSETTO:+0100
TZNAME:Europe/Berlin CET
END:STANDARD
BEGIN:STANDARD
DTSTART:20241027T020000
RDATE:20250330T030000
TZOFFSETFROM:+0200
TZOFFSETTO:+0100
TZNAME:Europe/Berlin CET
END:STANDARD
BEGIN:DAYLIGHT
DTSTART:20230511T093000
RDATE:20231029T020000
TZOFFSETFROM:+0100
TZOFFSETTO:+0200
TZNAME:Europe/Berlin CEST
END:DAYLIGHT
BEGIN:DAYLIGHT
DTSTART:20240331T030000
RDATE:20241027T020000
TZOFFSETFROM:+0100
TZOFFSETTO:+0200
TZNAME:Europe/Berlin CEST
END:DAYLIGHT
END:VTIMEZONE
BEGIN:VEVENT
UID:CSVConvertece77c9035dabe199ab61d99662e24db
CATEGORIES:D-Jun
CREATED:20240416T204441
SUMMARY:SpG Ruhlsdorf/Woltersdorf/Felgentreu II - SpG Mellensee/Sperenberg
LOCATION:Sportplatz Ruhlsdorf
DESCRIPTION:
DTSTAMP:20260424T033354
DTSTART;TZID=Europe/Berlin:20240511T093000
DTEND;TZID=Europe/Berlin:20240511T103000
SEQUENCE:0
TRANSP:OPAQUE
END:VEVENT
END:VCALENDAR