BEGIN:VCALENDAR
VERSION:2.0
PRODID:-//jEvents 2.0 for Joomla//EN
CALSCALE:GREGORIAN
METHOD:PUBLISH
BEGIN:VTIMEZONE
TZID:Europe/Berlin
BEGIN:STANDARD
DTSTART:20241027T020000
RDATE:20250330T030000
TZOFFSETFROM:+0200
TZOFFSETTO:+0100
TZNAME:Europe/Berlin CET
END:STANDARD
BEGIN:DAYLIGHT
DTSTART:20240621T130000
RDATE:20241027T020000
TZOFFSETFROM:+0100
TZOFFSETTO:+0200
TZNAME:Europe/Berlin CEST
END:DAYLIGHT
END:VTIMEZONE
BEGIN:VEVENT
UID:CSVConvert0ea31f7f2cfb7d7fc42307a719381ce1
CATEGORIES:Herren 1. Kreisklasse Staffel B
CREATED:20241110T152553
SUMMARY:Ruhlsdorfer BC II - SpG Sperenberg/Mellensee/Wünsdorf
LOCATION:Sportplatz Ruhlsdorf
DESCRIPTION:
DTSTAMP:20260424T195200
DTSTART;TZID=Europe/Berlin:20250622T130000
DTEND;TZID=Europe/Berlin:20250622T140000
SEQUENCE:0
TRANSP:OPAQUE
END:VEVENT
END:VCALENDAR