BEGIN:VCALENDAR
VERSION:2.0
PRODID:-//jEvents 2.0 for Joomla//EN
CALSCALE:GREGORIAN
METHOD:PUBLISH
BEGIN:VTIMEZONE
TZID:Europe/Berlin
BEGIN:STANDARD
DTSTART:20231115T190000
RDATE:20240331T030000
TZOFFSETFROM:+0200
TZOFFSETTO:+0100
TZNAME:Europe/Berlin CET
END:STANDARD
BEGIN:STANDARD
DTSTART:20241027T020000
RDATE:20250330T030000
TZOFFSETFROM:+0200
TZOFFSETTO:+0100
TZNAME:Europe/Berlin CET
END:STANDARD
BEGIN:DAYLIGHT
DTSTART:20240331T030000
RDATE:20241027T020000
TZOFFSETFROM:+0100
TZOFFSETTO:+0200
TZNAME:Europe/Berlin CEST
END:DAYLIGHT
END:VTIMEZONE
BEGIN:VEVENT
UID:CSVConvert3a60c9adbc79f1a6c32e6193a634761e
CATEGORIES:Ü50 Kreisliga
CREATED:20241110T152553
SUMMARY:SV Grün-Weiß Großbeeren - RSV Mellensee
LOCATION:Stadion Auf dem Eichenhügel
DESCRIPTION:
DTSTAMP:20260424T033317
DTSTART;TZID=Europe/Berlin:20241115T190000
DTEND;TZID=Europe/Berlin:20241115T200000
SEQUENCE:0
TRANSP:OPAQUE
END:VEVENT
END:VCALENDAR