BEGIN:VCALENDAR
VERSION:2.0
PRODID:-//jEvents 2.0 for Joomla//EN
CALSCALE:GREGORIAN
METHOD:PUBLISH
BEGIN:VTIMEZONE
TZID:Europe/Berlin
BEGIN:STANDARD
DTSTART:20241027T020000
RDATE:20250330T030000
TZOFFSETFROM:+0200
TZOFFSETTO:+0100
TZNAME:Europe/Berlin CET
END:STANDARD
BEGIN:DAYLIGHT
DTSTART:20240404T130000
RDATE:20241027T020000
TZOFFSETFROM:+0100
TZOFFSETTO:+0200
TZNAME:Europe/Berlin CEST
END:DAYLIGHT
END:VTIMEZONE
BEGIN:VEVENT
UID:CSVConvert54aa026349ccc9b5661a1a9a427e300e
CATEGORIES:B-Junioren Staffel B
CREATED:20241110T152553
SUMMARY:SpG Mellensee/Sperenberg/Wünsdorf - SV Blau-Weiß Dahlewitz II
LOCATION:BBG-Arena Mellensee
DESCRIPTION:
DTSTAMP:20260423T231543
DTSTART;TZID=Europe/Berlin:20250405T130000
DTEND;TZID=Europe/Berlin:20250405T140000
SEQUENCE:0
TRANSP:OPAQUE
END:VEVENT
END:VCALENDAR