BEGIN:VCALENDAR
VERSION:2.0
PRODID:-//jEvents 2.0 for Joomla//EN
CALSCALE:GREGORIAN
METHOD:PUBLISH
BEGIN:VTIMEZONE
TZID:Europe/Berlin
BEGIN:STANDARD
DTSTART:20241027T020000
RDATE:20250330T030000
TZOFFSETFROM:+0200
TZOFFSETTO:+0100
TZNAME:Europe/Berlin CET
END:STANDARD
BEGIN:DAYLIGHT
DTSTART:20240614T130000
RDATE:20241027T020000
TZOFFSETFROM:+0100
TZOFFSETTO:+0200
TZNAME:Europe/Berlin CEST
END:DAYLIGHT
END:VTIMEZONE
BEGIN:VEVENT
UID:CSVConvert5bcbfea03a52cfb7c0c0a1e22cce1eb0
CATEGORIES:Herren 1. Kreisklasse Staffel B
CREATED:20241110T152553
SUMMARY:SpG Sperenberg/Mellensee/Wünsdorf - Zellendorfer SV II
LOCATION:Sportplatz Kummersdorf-Gut
DESCRIPTION:
DTSTAMP:20260424T195157
DTSTART;TZID=Europe/Berlin:20250615T130000
DTEND;TZID=Europe/Berlin:20250615T140000
SEQUENCE:0
TRANSP:OPAQUE
END:VEVENT
END:VCALENDAR