BEGIN:VCALENDAR
VERSION:2.0
PRODID:-//jEvents 2.0 for Joomla//EN
CALSCALE:GREGORIAN
METHOD:PUBLISH
BEGIN:VTIMEZONE
TZID:Europe/Berlin
BEGIN:STANDARD
DTSTART:20241027T020000
RDATE:20250330T030000
TZOFFSETFROM:+0200
TZOFFSETTO:+0100
TZNAME:Europe/Berlin CET
END:STANDARD
BEGIN:DAYLIGHT
DTSTART:20240508T190000
RDATE:20241027T020000
TZOFFSETFROM:+0100
TZOFFSETTO:+0200
TZNAME:Europe/Berlin CEST
END:DAYLIGHT
END:VTIMEZONE
BEGIN:VEVENT
UID:CSVConvert67f673f0b6125e416d4b454a2c4bcaff
CATEGORIES:Ü50 Kreisliga
CREATED:20241110T152553
SUMMARY:SpG Ludwigsfelde / Siethen - RSV Mellensee
LOCATION:Sportplatz Siethen
DESCRIPTION:
DTSTAMP:20260424T195157
DTSTART;TZID=Europe/Berlin:20250509T190000
DTEND;TZID=Europe/Berlin:20250509T200000
SEQUENCE:0
TRANSP:OPAQUE
END:VEVENT
END:VCALENDAR