BEGIN:VCALENDAR
VERSION:2.0
PRODID:-//jEvents 2.0 for Joomla//EN
CALSCALE:GREGORIAN
METHOD:PUBLISH
BEGIN:VTIMEZONE
TZID:Europe/Berlin
BEGIN:STANDARD
DTSTART:20240328T153000
RDATE:20240331T030000
TZOFFSETFROM:+0200
TZOFFSETTO:+0100
TZNAME:Europe/Berlin CET
END:STANDARD
BEGIN:STANDARD
DTSTART:20241027T020000
RDATE:20250330T030000
TZOFFSETFROM:+0200
TZOFFSETTO:+0100
TZNAME:Europe/Berlin CET
END:STANDARD
BEGIN:DAYLIGHT
DTSTART:20240331T030000
RDATE:20241027T020000
TZOFFSETFROM:+0100
TZOFFSETTO:+0200
TZNAME:Europe/Berlin CEST
END:DAYLIGHT
END:VTIMEZONE
BEGIN:VEVENT
UID:CSVConvert6836796dd193bdc0732c5719694df29c
CATEGORIES:Ü32 Kreisliga
CREATED:20241110T152553
SUMMARY:SG Großziethen - SpG Wünsdorf/Sperenberg/Mellensee
LOCATION:Sportplatz Friedensweg
DESCRIPTION:
DTSTAMP:20260423T231551
DTSTART;TZID=Europe/Berlin:20250329T153000
DTEND;TZID=Europe/Berlin:20250329T163000
SEQUENCE:0
TRANSP:OPAQUE
END:VEVENT
END:VCALENDAR