BEGIN:VCALENDAR
VERSION:2.0
PRODID:-//jEvents 2.0 for Joomla//EN
CALSCALE:GREGORIAN
METHOD:PUBLISH
BEGIN:VTIMEZONE
TZID:Europe/Berlin
BEGIN:STANDARD
DTSTART:20231124T110000
RDATE:20240331T030000
TZOFFSETFROM:+0200
TZOFFSETTO:+0100
TZNAME:Europe/Berlin CET
END:STANDARD
BEGIN:STANDARD
DTSTART:20241027T020000
RDATE:20250330T030000
TZOFFSETFROM:+0200
TZOFFSETTO:+0100
TZNAME:Europe/Berlin CET
END:STANDARD
BEGIN:DAYLIGHT
DTSTART:20240331T030000
RDATE:20241027T020000
TZOFFSETFROM:+0100
TZOFFSETTO:+0200
TZNAME:Europe/Berlin CEST
END:DAYLIGHT
END:VTIMEZONE
BEGIN:VEVENT
UID:CSVConvert91959386e5d4ffd03669ded5bcf4785d
CATEGORIES:D-Junioren 1. Kreisklasse Staffel E
CREATED:20241110T152553
SUMMARY:SSV Nonnendorf I - SpG Sperenberg/Mellensee
LOCATION:Sportplatz an der B 102
DESCRIPTION:
DTSTAMP:20260424T033306
DTSTART;TZID=Europe/Berlin:20241124T110000
DTEND;TZID=Europe/Berlin:20241124T120000
SEQUENCE:0
TRANSP:OPAQUE
END:VEVENT
END:VCALENDAR