BEGIN:VCALENDAR
VERSION:2.0
PRODID:-//jEvents 2.0 for Joomla//EN
CALSCALE:GREGORIAN
METHOD:PUBLISH
BEGIN:VTIMEZONE
TZID:Europe/Berlin
BEGIN:STANDARD
DTSTART:20231201T103000
RDATE:20240331T030000
TZOFFSETFROM:+0200
TZOFFSETTO:+0100
TZNAME:Europe/Berlin CET
END:STANDARD
BEGIN:STANDARD
DTSTART:20241027T020000
RDATE:20250330T030000
TZOFFSETFROM:+0200
TZOFFSETTO:+0100
TZNAME:Europe/Berlin CET
END:STANDARD
BEGIN:DAYLIGHT
DTSTART:20240331T030000
RDATE:20241027T020000
TZOFFSETFROM:+0100
TZOFFSETTO:+0200
TZNAME:Europe/Berlin CEST
END:DAYLIGHT
END:VTIMEZONE
BEGIN:VEVENT
UID:CSVConvert94bdd24e7025e5cec032466f61ef1cac
CATEGORIES:E - Junioren 4+1 TWIN
CREATED:20241110T152553
SUMMARY:FSV 63 Luckenwalde II (TWIN) - SpG Sperenberg/Mellensee (TWIN)
LOCATION:W.-Seelenbinder-Stadion
DESCRIPTION:
DTSTAMP:20260424T033355
DTSTART;TZID=Europe/Berlin:20241201T103000
DTEND;TZID=Europe/Berlin:20241201T113000
SEQUENCE:0
TRANSP:OPAQUE
END:VEVENT
END:VCALENDAR