BEGIN:VCALENDAR
VERSION:2.0
PRODID:-//jEvents 2.0 for Joomla//EN
CALSCALE:GREGORIAN
METHOD:PUBLISH
BEGIN:VTIMEZONE
TZID:Europe/Berlin
BEGIN:STANDARD
DTSTART:20240321T130000
RDATE:20240331T030000
TZOFFSETFROM:+0200
TZOFFSETTO:+0100
TZNAME:Europe/Berlin CET
END:STANDARD
BEGIN:STANDARD
DTSTART:20241027T020000
RDATE:20250330T030000
TZOFFSETFROM:+0200
TZOFFSETTO:+0100
TZNAME:Europe/Berlin CET
END:STANDARD
BEGIN:DAYLIGHT
DTSTART:20240331T030000
RDATE:20241027T020000
TZOFFSETFROM:+0100
TZOFFSETTO:+0200
TZNAME:Europe/Berlin CEST
END:DAYLIGHT
END:VTIMEZONE
BEGIN:VEVENT
UID:CSVConvertbe0a5c074e5a8c2be21fba39349fa4a2
CATEGORIES:B-Junioren Staffel B
CREATED:20241110T152553
SUMMARY:FC Viktoria Jüterbog - SpG Mellensee/Sperenberg/Wünsdorf
LOCATION:Sportplatz Am Rohrteich
DESCRIPTION:
DTSTAMP:20260423T231556
DTSTART;TZID=Europe/Berlin:20250322T130000
DTEND;TZID=Europe/Berlin:20250322T140000
SEQUENCE:0
TRANSP:OPAQUE
END:VEVENT
END:VCALENDAR