BEGIN:VCALENDAR
VERSION:2.0
PRODID:-//jEvents 2.0 for Joomla//EN
CALSCALE:GREGORIAN
METHOD:PUBLISH
BEGIN:VTIMEZONE
TZID:Europe/Berlin
BEGIN:STANDARD
DTSTART:20241027T020000
RDATE:20250330T030000
TZOFFSETFROM:+0200
TZOFFSETTO:+0100
TZNAME:Europe/Berlin CET
END:STANDARD
BEGIN:DAYLIGHT
DTSTART:20240425T150000
RDATE:20241027T020000
TZOFFSETFROM:+0100
TZOFFSETTO:+0200
TZNAME:Europe/Berlin CEST
END:DAYLIGHT
END:VTIMEZONE
BEGIN:VEVENT
UID:CSVConvertc722980d2e7bb36fc1ef4a61526cb7ea
CATEGORIES:Ü32 Kreisliga
CREATED:20241110T152553
SUMMARY:SpG Wünsdorf/Sperenberg/Mellensee - SC Blau-Weiß Schenkendorf
LOCATION:Sportplatz Kummersdorf-Gut
DESCRIPTION:
DTSTAMP:20260423T231543
DTSTART;TZID=Europe/Berlin:20250426T150000
DTEND;TZID=Europe/Berlin:20250426T160000
SEQUENCE:0
TRANSP:OPAQUE
END:VEVENT
END:VCALENDAR