BEGIN:VCALENDAR
VERSION:2.0
PRODID:-//jEvents 2.0 for Joomla//EN
CALSCALE:GREGORIAN
METHOD:PUBLISH
BEGIN:VTIMEZONE
TZID:Europe/Berlin
BEGIN:STANDARD
DTSTART:20231206T190000
RDATE:20240331T030000
TZOFFSETFROM:+0200
TZOFFSETTO:+0100
TZNAME:Europe/Berlin CET
END:STANDARD
BEGIN:STANDARD
DTSTART:20241027T020000
RDATE:20250330T030000
TZOFFSETFROM:+0200
TZOFFSETTO:+0100
TZNAME:Europe/Berlin CET
END:STANDARD
BEGIN:DAYLIGHT
DTSTART:20240331T030000
RDATE:20241027T020000
TZOFFSETFROM:+0100
TZOFFSETTO:+0200
TZNAME:Europe/Berlin CEST
END:DAYLIGHT
END:VTIMEZONE
BEGIN:VEVENT
UID:CSVConvertc9d8e5025b4ea4a5865da3e5caef5e2a
CATEGORIES:Ü50 Kreisliga
CREATED:20241110T152553
SUMMARY:RSV Waltersdorf 09 - RSV Mellensee
LOCATION:HDS-Arena Waltersdorf
DESCRIPTION:
DTSTAMP:20260424T033354
DTSTART;TZID=Europe/Berlin:20241206T190000
DTEND;TZID=Europe/Berlin:20241206T200000
SEQUENCE:0
TRANSP:OPAQUE
END:VEVENT
END:VCALENDAR