BEGIN:VCALENDAR
VERSION:2.0
PRODID:-//jEvents 2.0 for Joomla//EN
CALSCALE:GREGORIAN
METHOD:PUBLISH
BEGIN:VTIMEZONE
TZID:Europe/Berlin
BEGIN:STANDARD
DTSTART:20231116T123000
RDATE:20240331T030000
TZOFFSETFROM:+0200
TZOFFSETTO:+0100
TZNAME:Europe/Berlin CET
END:STANDARD
BEGIN:STANDARD
DTSTART:20241027T020000
RDATE:20250330T030000
TZOFFSETFROM:+0200
TZOFFSETTO:+0100
TZNAME:Europe/Berlin CET
END:STANDARD
BEGIN:DAYLIGHT
DTSTART:20240331T030000
RDATE:20241027T020000
TZOFFSETFROM:+0100
TZOFFSETTO:+0200
TZNAME:Europe/Berlin CEST
END:DAYLIGHT
END:VTIMEZONE
BEGIN:VEVENT
UID:CSVConvertd1ea6721c01f421d05803c47ff6007ef
CATEGORIES:B-Junioren Staffel B
CREATED:20241110T152553
SUMMARY:BSC Preußen 07 - SpG Mellensee/Sperenberg/Wünsdorf
LOCATION:Sportplatz Blankenfelde KR
DESCRIPTION:
DTSTAMP:20260424T033358
DTSTART;TZID=Europe/Berlin:20241116T123000
DTEND;TZID=Europe/Berlin:20241116T133000
SEQUENCE:0
TRANSP:OPAQUE
END:VEVENT
END:VCALENDAR