BEGIN:VCALENDAR
VERSION:2.0
PRODID:-//jEvents 2.0 for Joomla//EN
CALSCALE:GREGORIAN
METHOD:PUBLISH
BEGIN:VTIMEZONE
TZID:Europe/Berlin
BEGIN:STANDARD
DTSTART:20241121T000000
RDATE:20250330T030000
TZOFFSETFROM:+0200
TZOFFSETTO:+0100
TZNAME:Europe/Berlin CET
END:STANDARD
END:VTIMEZONE
BEGIN:VEVENT
UID:31fcea60890c466ef5b2d8478062fae8
CATEGORIES:Leichtathletik
CREATED:20251006T202608
SUMMARY:Lausitzer Meisterschaft in Senftenberg
LOCATION:Senftenberg
DESCRIPTION:
DTSTAMP:20260423T231550
DTSTART;TZID=Europe/Berlin;VALUE=DATE:20251122
DTEND;TZID=Europe/Berlin;VALUE=DATE:20251123
SEQUENCE:0
TRANSP:OPAQUE
END:VEVENT
END:VCALENDAR