BEGIN:VCALENDAR
VERSION:2.0
PRODID:-//jEvents 2.0 for Joomla//EN
CALSCALE:GREGORIAN
METHOD:PUBLISH
BEGIN:VTIMEZONE
TZID:Europe/Berlin
BEGIN:STANDARD
DTSTART:20241121T000000
RDATE:20250330T030000
TZOFFSETFROM:+0200
TZOFFSETTO:+0100
TZNAME:Europe/Berlin CET
END:STANDARD
END:VTIMEZONE
BEGIN:VEVENT
UID:0640d0e9b709e955cd005ed447143889
CATEGORIES:Leichtathletik
CREATED:20251015T233720
SUMMARY:KiLa Cup Finale
LOCATION:Potsdam\, Luftschiffhafen
DESCRIPTION:KILA U8 und U10 Potsdam\n
X-ALT-DESC;FMTTYPE=text/html:<p><a href="https://ladv.de/ausschreibung/detail/44344/KILA-U8-und-U10-Pots
 dam-Potsdam.htm">KILA U8 und U10 Potsdam</a></p>
X-EXTRAINFO:https://ladv.de/ausschreibung/detail/44344/KILA-U8-und-U10-Potsdam-Potsdam.
 htm
DTSTAMP:20260423T231551
DTSTART;TZID=Europe/Berlin;VALUE=DATE:20251122
DTEND;TZID=Europe/Berlin;VALUE=DATE:20251123
SEQUENCE:0
TRANSP:OPAQUE
END:VEVENT
END:VCALENDAR