BEGIN:VCALENDAR
VERSION:2.0
PRODID:-//jEvents 2.0 for Joomla//EN
CALSCALE:GREGORIAN
METHOD:PUBLISH
BEGIN:VTIMEZONE
TZID:Europe/Berlin
BEGIN:STANDARD
DTSTART:20241107T093000
RDATE:20250330T030000
TZOFFSETFROM:+0200
TZOFFSETTO:+0100
TZNAME:Europe/Berlin CET
END:STANDARD
END:VTIMEZONE
BEGIN:VEVENT
UID:CSVConvert954fa3bbc68f3b4a03253ef016096924
CATEGORIES:E-Jun
CREATED:20251106T203019
SUMMARY:SpG Deutsch Wusterhausen/Schenkendorf - SpG Mellensee/Sperenberg
LOCATION:Sportplatz Schenkendorf
DESCRIPTION:
DTSTAMP:20260423T231427
DTSTART;TZID=Europe/Berlin:20251108T093000
DTEND;TZID=Europe/Berlin:20251108T103000
SEQUENCE:0
TRANSP:OPAQUE
END:VEVENT
END:VCALENDAR