BEGIN:VCALENDAR
VERSION:2.0
PRODID:-//jEvents 2.0 for Joomla//EN
CALSCALE:GREGORIAN
METHOD:PUBLISH
BEGIN:VTIMEZONE
TZID:Europe/Berlin
BEGIN:STANDARD
DTSTART:20241128T130000
RDATE:20250330T030000
TZOFFSETFROM:+0200
TZOFFSETTO:+0100
TZNAME:Europe/Berlin CET
END:STANDARD
END:VTIMEZONE
BEGIN:VEVENT
UID:CSVConvertb3287037f4d76c04b2ecd66c745f4a9d
CATEGORIES:B-Jun
CREATED:20251106T203019
SUMMARY:SpG Blankenfelde/Dahlewitz II - SpG Wünsdorf/Mellensee/Sperenberg
LOCATION:Sportplatz Blankenfelde KR
DESCRIPTION:
DTSTAMP:20260423T231428
DTSTART;TZID=Europe/Berlin:20251129T130000
DTEND;TZID=Europe/Berlin:20251129T140000
SEQUENCE:0
TRANSP:OPAQUE
END:VEVENT
END:VCALENDAR