BEGIN:VCALENDAR
VERSION:2.0
PRODID:-//jEvents 2.0 for Joomla//EN
CALSCALE:GREGORIAN
METHOD:PUBLISH
BEGIN:VTIMEZONE
TZID:Europe/Berlin
BEGIN:STANDARD
DTSTART:20241128T130000
RDATE:20250330T030000
TZOFFSETFROM:+0200
TZOFFSETTO:+0100
TZNAME:Europe/Berlin CET
END:STANDARD
END:VTIMEZONE
BEGIN:VEVENT
UID:CSVConvert8fc3e0307fac72d9c4fadff338e3da64
CATEGORIES:D-Jun
CREATED:20251106T203019
SUMMARY:SG Glienick - SpG Sperenberg/Mellensee
LOCATION:Sportplatz Glienick
DESCRIPTION:
DTSTAMP:20260423T231551
DTSTART;TZID=Europe/Berlin:20251129T130000
DTEND;TZID=Europe/Berlin:20251129T140000
SEQUENCE:0
TRANSP:OPAQUE
END:VEVENT
END:VCALENDAR