BEGIN:VCALENDAR
VERSION:2.0
PRODID:-//jEvents 2.0 for Joomla//EN
CALSCALE:GREGORIAN
METHOD:PUBLISH
BEGIN:VTIMEZONE
TZID:Europe/Berlin
BEGIN:STANDARD
DTSTART:20241108T140000
RDATE:20250330T030000
TZOFFSETFROM:+0200
TZOFFSETTO:+0100
TZNAME:Europe/Berlin CET
END:STANDARD
END:VTIMEZONE
BEGIN:VEVENT
UID:CSVConvertb8aa756d57caae290673a4025142a604
CATEGORIES:Kreisklasse Staffel B
CREATED:20251106T203019
SUMMARY:SV Teupitz/Groß Köris II - SpG Sperenberg/Mellensee/Wünsdorf
LOCATION:Sportplatz Groß Köris
DESCRIPTION:
DTSTAMP:20260423T231551
DTSTART;TZID=Europe/Berlin:20251109T140000
DTEND;TZID=Europe/Berlin:20251109T150000
SEQUENCE:0
TRANSP:OPAQUE
END:VEVENT
END:VCALENDAR