BEGIN:VCALENDAR
VERSION:2.0
PRODID:-//jEvents 2.0 for Joomla//EN
CALSCALE:GREGORIAN
METHOD:PUBLISH
BEGIN:VTIMEZONE
TZID:Europe/Berlin
BEGIN:STANDARD
DTSTART:20241107T090000
RDATE:20250330T030000
TZOFFSETFROM:+0200
TZOFFSETTO:+0100
TZNAME:Europe/Berlin CET
END:STANDARD
END:VTIMEZONE
BEGIN:VEVENT
UID:CSVConvertb75faaa4416f0d2b3ff4aa47fe7ffbd1
CATEGORIES:F-Jun
CREATED:20251106T203019
SUMMARY:SC Eintracht Miersdorf/Zeuthen II (TWIN) - SpG Mellensee/Sperenberg (TWIN)
LOCATION:Sportplatz Zeuthen (KR)
DESCRIPTION:
DTSTAMP:20260423T231607
DTSTART;TZID=Europe/Berlin:20251108T090000
DTEND;TZID=Europe/Berlin:20251108T100000
SEQUENCE:0
TRANSP:OPAQUE
END:VEVENT
END:VCALENDAR