BEGIN:VCALENDAR
VERSION:2.0
PRODID:-//jEvents 2.0 for Joomla//EN
CALSCALE:GREGORIAN
METHOD:PUBLISH
BEGIN:VTIMEZONE
TZID:Europe/Berlin
BEGIN:STANDARD
DTSTART:20241107T100000
RDATE:20250330T030000
TZOFFSETFROM:+0200
TZOFFSETTO:+0100
TZNAME:Europe/Berlin CET
END:STANDARD
END:VTIMEZONE
BEGIN:VEVENT
UID:CSVConvert1658642990d349ddc525cf9dbe8c5bf4
CATEGORIES:D-Jun
CREATED:20251106T203019
SUMMARY:SV Teupitz/Groß Köris - SpG Sperenberg/Mellensee
LOCATION:Sportplatz Groß Köris
DESCRIPTION:
DTSTAMP:20260423T231622
DTSTART;TZID=Europe/Berlin:20251108T100000
DTEND;TZID=Europe/Berlin:20251108T110000
SEQUENCE:0
TRANSP:OPAQUE
END:VEVENT
END:VCALENDAR