BEGIN:VCALENDAR
VERSION:2.0
PRODID:-//jEvents 2.0 for Joomla//EN
CALSCALE:GREGORIAN
METHOD:PUBLISH
BEGIN:VTIMEZONE
TZID:Europe/Berlin
BEGIN:STANDARD
DTSTART:20241129T110000
RDATE:20250330T030000
TZOFFSETFROM:+0200
TZOFFSETTO:+0100
TZNAME:Europe/Berlin CET
END:STANDARD
END:VTIMEZONE
BEGIN:VEVENT
UID:CSVConvert978200ec69498f1b96e658c033b7e34e
CATEGORIES:Kreisklasse Staffel B
CREATED:20251106T203019
SUMMARY:SpG Sperenberg/Mellensee/Wünsdorf - SG Aufbau Halbe II
LOCATION:Sportplatz Kummersdorf-Gut
DESCRIPTION:
DTSTAMP:20260423T231607
DTSTART;TZID=Europe/Berlin:20251130T110000
DTEND;TZID=Europe/Berlin:20251130T120000
SEQUENCE:0
TRANSP:OPAQUE
END:VEVENT
END:VCALENDAR