BEGIN:VCALENDAR
VERSION:2.0
PRODID:-//jEvents 2.0 for Joomla//EN
CALSCALE:GREGORIAN
METHOD:PUBLISH
BEGIN:VTIMEZONE
TZID:Europe/Berlin
BEGIN:STANDARD
DTSTART:20241107T110000
RDATE:20250330T030000
TZOFFSETFROM:+0200
TZOFFSETTO:+0100
TZNAME:Europe/Berlin CET
END:STANDARD
END:VTIMEZONE
BEGIN:VEVENT
UID:CSVConvert23446dc2c0fed918e9407a94a76901e9
CATEGORIES:E-Jun
CREATED:20251106T203019
SUMMARY:SpG Sperenberg/Mellensee I (TWIN) - SC Eintracht Miersdorf/Zeuthen IV (TWIN)
LOCATION:Sportplatz Schule
DESCRIPTION:
DTSTAMP:20260423T231626
DTSTART;TZID=Europe/Berlin:20251108T110000
DTEND;TZID=Europe/Berlin:20251108T120000
SEQUENCE:0
TRANSP:OPAQUE
END:VEVENT
END:VCALENDAR