BEGIN:VCALENDAR
VERSION:2.0
PRODID:-//jEvents 2.0 for Joomla//EN
CALSCALE:GREGORIAN
METHOD:PUBLISH
BEGIN:VTIMEZONE
TZID:Europe/Berlin
BEGIN:STANDARD
DTSTART:20241106T190000
RDATE:20250330T030000
TZOFFSETFROM:+0200
TZOFFSETTO:+0100
TZNAME:Europe/Berlin CET
END:STANDARD
END:VTIMEZONE
BEGIN:VEVENT
UID:CSVConvertf31336835040dfbb611c2ffccc3fb3c4
CATEGORIES:Ue50
CREATED:20251106T203019
SUMMARY:SG Grün-Weiß Deutsch Wusterh. - RSV Mellensee
LOCATION:Sportplatz Deutsch Wusterh.
DESCRIPTION:
DTSTAMP:20260424T033316
DTSTART;TZID=Europe/Berlin:20251107T190000
DTEND;TZID=Europe/Berlin:20251107T200000
SEQUENCE:0
TRANSP:OPAQUE
END:VEVENT
END:VCALENDAR