BEGIN:VCALENDAR
VERSION:2.0
PRODID:-//jEvents 2.0 for Joomla//EN
CALSCALE:GREGORIAN
METHOD:PUBLISH
BEGIN:VTIMEZONE
TZID:Europe/Berlin
BEGIN:STANDARD
DTSTART:20241108T100000
RDATE:20250330T030000
TZOFFSETFROM:+0200
TZOFFSETTO:+0100
TZNAME:Europe/Berlin CET
END:STANDARD
END:VTIMEZONE
BEGIN:VEVENT
UID:CSVConvert9a2fb5881239d240114105504193f7c6
CATEGORIES:G-Jun
CREATED:20251106T203019
SUMMARY:RSV Mellensee 08 - Kinderfestival
LOCATION:BBG-Arena Mellensee
DESCRIPTION:
DTSTAMP:20260423T231549
DTSTART;TZID=Europe/Berlin:20251109T100000
DTEND;TZID=Europe/Berlin:20251109T110000
SEQUENCE:0
TRANSP:OPAQUE
END:VEVENT
END:VCALENDAR