BEGIN:VCALENDAR
VERSION:2.0
PRODID:-//jEvents 2.0 for Joomla//EN
CALSCALE:GREGORIAN
METHOD:PUBLISH
BEGIN:VTIMEZONE
TZID:Europe/Berlin
BEGIN:STANDARD
DTSTART:20241114T130000
RDATE:20250330T030000
TZOFFSETFROM:+0200
TZOFFSETTO:+0100
TZNAME:Europe/Berlin CET
END:STANDARD
END:VTIMEZONE
BEGIN:VEVENT
UID:CSVConvert2943ea0a17a16b287c0d4357be82f363
CATEGORIES:B-Jun
CREATED:20251106T203019
SUMMARY:VfB Trebbin - SpG Wünsdorf/Mellensee/Sperenberg
LOCATION:Sportplatz Am Kulturhaus/Ebelstraße
DESCRIPTION:
DTSTAMP:20260423T231605
DTSTART;TZID=Europe/Berlin:20251115T130000
DTEND;TZID=Europe/Berlin:20251115T140000
SEQUENCE:0
TRANSP:OPAQUE
END:VEVENT
END:VCALENDAR