BEGIN:VCALENDAR
VERSION:2.0
PRODID:-//jEvents 2.0 for Joomla//EN
CALSCALE:GREGORIAN
METHOD:PUBLISH
BEGIN:VTIMEZONE
TZID:Europe/Berlin
BEGIN:STANDARD
DTSTART:20241107T130000
RDATE:20250330T030000
TZOFFSETFROM:+0200
TZOFFSETTO:+0100
TZNAME:Europe/Berlin CET
END:STANDARD
END:VTIMEZONE
BEGIN:VEVENT
UID:CSVConvert11f8b4809d916ef0eb78a0b746fece3d
CATEGORIES:B-Jun
CREATED:20251106T203019
SUMMARY:SG Großziethen II - SpG Wünsdorf/Mellensee/Sperenberg
LOCATION:Sportplatz Friedensweg
DESCRIPTION:
DTSTAMP:20260423T231549
DTSTART;TZID=Europe/Berlin:20251108T130000
DTEND;TZID=Europe/Berlin:20251108T140000
SEQUENCE:0
TRANSP:OPAQUE
END:VEVENT
END:VCALENDAR