BEGIN:VCALENDAR
VERSION:2.0
PRODID:-//jEvents 2.0 for Joomla//EN
CALSCALE:GREGORIAN
METHOD:PUBLISH
BEGIN:VTIMEZONE
TZID:Europe/Berlin
BEGIN:STANDARD
DTSTART:20241115T100000
RDATE:20250330T030000
TZOFFSETFROM:+0200
TZOFFSETTO:+0100
TZNAME:Europe/Berlin CET
END:STANDARD
END:VTIMEZONE
BEGIN:VEVENT
UID:CSVConvert3b23f5f4f54d3c9feac554db94bd0339
CATEGORIES:F-Jun
CREATED:20251106T203019
SUMMARY:SpG Mellensee/Sperenberg (TWIN) - Borussia Mahlow (TWIN)
LOCATION:BBG-Arena Mellensee
DESCRIPTION:
DTSTAMP:20260423T231604
DTSTART;TZID=Europe/Berlin:20251116T100000
DTEND;TZID=Europe/Berlin:20251116T110000
SEQUENCE:0
TRANSP:OPAQUE
END:VEVENT
END:VCALENDAR