BEGIN:VCALENDAR
VERSION:2.0
PRODID:-//jEvents 2.0 for Joomla//EN
CALSCALE:GREGORIAN
METHOD:PUBLISH
BEGIN:VTIMEZONE
TZID:Europe/Berlin
BEGIN:STANDARD
DTSTART:20241122T150000
RDATE:20250330T030000
TZOFFSETFROM:+0200
TZOFFSETTO:+0100
TZNAME:Europe/Berlin CET
END:STANDARD
END:VTIMEZONE
BEGIN:VEVENT
UID:CSVConvert0e4e7ebb854252778992ecf440dad7bc
CATEGORIES:Kreisklasse Staffel B
CREATED:20251106T203019
SUMMARY:Ludwigsfelder FC III - SpG Sperenberg/Mellensee/Wünsdorf
LOCATION:Waldstadion Ludwigsfelde KR
DESCRIPTION:
DTSTAMP:20260423T231546
DTSTART;TZID=Europe/Berlin:20251123T150000
DTEND;TZID=Europe/Berlin:20251123T160000
SEQUENCE:0
TRANSP:OPAQUE
END:VEVENT
END:VCALENDAR