BEGIN:VCALENDAR
VERSION:2.0
PRODID:-//jEvents 2.0 for Joomla//EN
CALSCALE:GREGORIAN
METHOD:PUBLISH
BEGIN:VTIMEZONE
TZID:Europe/Berlin
END:VTIMEZONE
BEGIN:VEVENT
UID:06a21bf605d923a1e902e7a1e4111b0c
CATEGORIES:Event
CREATED:20251222T201719
SUMMARY:vereinsinternes Volleyballturnier
LOCATION:Sporthalle Mellensee
DESCRIPTION:
DTSTAMP:20260423T135237
DTSTART;TZID=Europe/Berlin:20260110T100000
DTEND;TZID=Europe/Berlin:20260110T170000
SEQUENCE:0
TRANSP:OPAQUE
END:VEVENT
END:VCALENDAR