BEGIN:VCALENDAR
VERSION:2.0
PRODID:-//jEvents 2.0 for Joomla//EN
CALSCALE:GREGORIAN
METHOD:PUBLISH
BEGIN:VTIMEZONE
TZID:Europe/Berlin
END:VTIMEZONE
BEGIN:VEVENT
UID:CSVConverte3e196fbba3f41869d60efab6facbf3f
CATEGORIES:Ü50
CREATED:20260326T210743
SUMMARY:RSV Mellensee - SG Grün-Weiß Deutsch Wusterh.
LOCATION:BBG-Arena Mellensee
DESCRIPTION:
DTSTAMP:20260423T164121
DTSTART;TZID=Europe/Berlin:20260327T190000
DTEND;TZID=Europe/Berlin:20260327T200000
SEQUENCE:0
TRANSP:OPAQUE
END:VEVENT
END:VCALENDAR