BEGIN:VCALENDAR
VERSION:2.0
PRODID:-//jEvents 2.0 for Joomla//EN
CALSCALE:GREGORIAN
METHOD:PUBLISH
BEGIN:VTIMEZONE
TZID:Europe/Berlin
END:VTIMEZONE
BEGIN:VEVENT
UID:CSVConvertd87d93f2cf6bfceca3b26424c70ac62f
CATEGORIES:E-Jun
CREATED:20260326T212927
SUMMARY:SpG Mellensee/Sperenberg - SV Fichte Baruth
LOCATION:BBG-Arena Mellensee
DESCRIPTION:
DTSTAMP:20260423T164116
DTSTART;TZID=Europe/Berlin:20260606T100000
DTEND;TZID=Europe/Berlin:20260606T110000
SEQUENCE:0
TRANSP:OPAQUE
END:VEVENT
END:VCALENDAR