BEGIN:VCALENDAR
VERSION:2.0
PRODID:-//jEvents 2.0 for Joomla//EN
CALSCALE:GREGORIAN
METHOD:PUBLISH
BEGIN:VTIMEZONE
TZID:Europe/Berlin
END:VTIMEZONE
BEGIN:VEVENT
UID:CSVConverte34f16f5efb512764d3efc1f6713c25c
CATEGORIES:Ü32
CREATED:20260326T212927
SUMMARY:SC Blau-Weiß Schenkendorf - SpG Wünsdorf/Sperenberg/Mellensee
LOCATION:Sportplatz Schenkendorf
DESCRIPTION:
DTSTAMP:20260423T151821
DTSTART;TZID=Europe/Berlin:20260418T150000
DTEND;TZID=Europe/Berlin:20260418T160000
SEQUENCE:0
TRANSP:OPAQUE
END:VEVENT
END:VCALENDAR