BEGIN:VCALENDAR
VERSION:2.0
PRODID:-//jEvents 2.0 for Joomla//EN
CALSCALE:GREGORIAN
METHOD:PUBLISH
BEGIN:VTIMEZONE
TZID:Europe/Berlin
END:VTIMEZONE
BEGIN:VEVENT
UID:CSVConvert28224d22581ba4ab069b5a3efa0aab2f
CATEGORIES:Ü35
CREATED:20260326T212927
SUMMARY:SV 1885 Golßen - SpG Wünsdorf/Sperenberg/Mellensee
LOCATION:Sportanlage am Schwimmbad
DESCRIPTION:
DTSTAMP:20260423T151737
DTSTART;TZID=Europe/Berlin:20260401T190000
DTEND;TZID=Europe/Berlin:20260401T200000
SEQUENCE:0
TRANSP:OPAQUE
END:VEVENT
END:VCALENDAR