BEGIN:VCALENDAR
VERSION:2.0
PRODID:-//jEvents 2.0 for Joomla//EN
CALSCALE:GREGORIAN
METHOD:PUBLISH
BEGIN:VTIMEZONE
TZID:Europe/Berlin
END:VTIMEZONE
BEGIN:VEVENT
UID:CSVConvert0d13f4218678d0a977843671ce0f45ec
CATEGORIES:Ü32
CREATED:20260326T212927
SUMMARY:SpG Ludwigsfelde / Siethen - SpG Wünsdorf/Sperenberg/Mellensee
LOCATION:Sportplatz Siethen
DESCRIPTION:
DTSTAMP:20260423T151824
DTSTART;TZID=Europe/Berlin:20260328T150000
DTEND;TZID=Europe/Berlin:20260328T160000
SEQUENCE:0
TRANSP:OPAQUE
END:VEVENT
END:VCALENDAR