BEGIN:VCALENDAR
VERSION:2.0
PRODID:-//jEvents 2.0 for Joomla//EN
CALSCALE:GREGORIAN
METHOD:PUBLISH
BEGIN:VTIMEZONE
TZID:Europe/Berlin
END:VTIMEZONE
BEGIN:VEVENT
UID:CSVConvertaab87e2c7b006e0d7f5ddc83701407d2
CATEGORIES:D-Jun
CREATED:20260326T212927
SUMMARY:MSV Zossen 07 II - SpG Sperenberg/Mellensee
LOCATION:Sportforum Dabendorf
DESCRIPTION:
DTSTAMP:20260423T164120
DTSTART;TZID=Europe/Berlin:20260613T120000
DTEND;TZID=Europe/Berlin:20260613T130000
SEQUENCE:0
TRANSP:OPAQUE
END:VEVENT
END:VCALENDAR