BEGIN:VCALENDAR
VERSION:2.0
PRODID:-//jEvents 2.0 for Joomla//EN
CALSCALE:GREGORIAN
METHOD:PUBLISH
BEGIN:VTIMEZONE
TZID:Europe/Berlin
END:VTIMEZONE
BEGIN:VEVENT
UID:CSVConvert12717bca9a6dc6e56f20bb772660b558
CATEGORIES:Herren
CREATED:20260326T212928
SUMMARY:SG Aufbau Halbe II - SpG Sperenberg/Mellensee/Wünsdorf
LOCATION:Gemeinde-Sportplätze Strandweg
DESCRIPTION:
DTSTAMP:20260423T151742
DTSTART;TZID=Europe/Berlin:20260614T130000
DTEND;TZID=Europe/Berlin:20260614T140000
SEQUENCE:0
TRANSP:OPAQUE
END:VEVENT
END:VCALENDAR