BEGIN:VCALENDAR
VERSION:2.0
PRODID:-//jEvents 2.0 for Joomla//EN
CALSCALE:GREGORIAN
METHOD:PUBLISH
BEGIN:VTIMEZONE
TZID:Europe/Berlin
END:VTIMEZONE
BEGIN:VEVENT
UID:CSVConvert034e6db525d3524b2c84361a9bc1ab46
CATEGORIES:B-Jun
CREATED:20260326T212928
SUMMARY:SG Wacker Motzen - SpG Wünsdorf/Mellensee/Sperenberg
LOCATION:Sportplatz Motzen
DESCRIPTION:
DTSTAMP:20260423T115653
DTSTART;TZID=Europe/Berlin:20260509T130000
DTEND;TZID=Europe/Berlin:20260509T140000
SEQUENCE:0
TRANSP:OPAQUE
END:VEVENT
END:VCALENDAR