BEGIN:VCALENDAR
VERSION:2.0
PRODID:-//jEvents 2.0 for Joomla//EN
CALSCALE:GREGORIAN
METHOD:PUBLISH
BEGIN:VTIMEZONE
TZID:Europe/Berlin
END:VTIMEZONE
BEGIN:VEVENT
UID:CSVConverte315795f5c58048667d6217581193d5f
CATEGORIES:D-Jun
CREATED:20260326T212928
SUMMARY:FC Viktoria Jüterbog I - SpG Sperenberg/Mellensee
LOCATION:Sportplatz Am Rohrteich
DESCRIPTION:
DTSTAMP:20260423T164123
DTSTART;TZID=Europe/Berlin:20260531T100000
DTEND;TZID=Europe/Berlin:20260531T110000
SEQUENCE:0
TRANSP:OPAQUE
END:VEVENT
END:VCALENDAR