BEGIN:VCALENDAR
VERSION:2.0
PRODID:-//jEvents 2.0 for Joomla//EN
CALSCALE:GREGORIAN
METHOD:PUBLISH
BEGIN:VTIMEZONE
TZID:Europe/Berlin
END:VTIMEZONE
BEGIN:VEVENT
UID:CSVConvert6355a9338e7d7b2d1e97f39c03fdba2f
CATEGORIES:E-Jun
CREATED:20260326T212928
SUMMARY:Heideseer SV II - SpG Mellensee/Sperenberg
LOCATION:Sportplatz Gussow
DESCRIPTION:
DTSTAMP:20260423T164123
DTSTART;TZID=Europe/Berlin:20260510T103000
DTEND;TZID=Europe/Berlin:20260510T113000
SEQUENCE:0
TRANSP:OPAQUE
END:VEVENT
END:VCALENDAR