BEGIN:VCALENDAR
VERSION:2.0
PRODID:-//jEvents 2.0 for Joomla//EN
CALSCALE:GREGORIAN
METHOD:PUBLISH
BEGIN:VTIMEZONE
TZID:Europe/Berlin
END:VTIMEZONE
BEGIN:VEVENT
UID:CSVConvertbc62892b37df936c340085d3555f4917
CATEGORIES:Herren
CREATED:20260326T212928
SUMMARY:SG Blau-Weiß Altes Lager - SpG Sperenberg/Mellensee/Wünsdorf
LOCATION:Stadion an der HTS
DESCRIPTION:
DTSTAMP:20260423T151819
DTSTART;TZID=Europe/Berlin:20260510T150000
DTEND;TZID=Europe/Berlin:20260510T160000
SEQUENCE:0
TRANSP:OPAQUE
END:VEVENT
END:VCALENDAR