BEGIN:VCALENDAR
VERSION:2.0
PRODID:-//jEvents 2.0 for Joomla//EN
CALSCALE:GREGORIAN
METHOD:PUBLISH
BEGIN:VTIMEZONE
TZID:Europe/Berlin
END:VTIMEZONE
BEGIN:VEVENT
UID:CSVConvertc88c7f0bfe81d1b193a586b4624ac80d
CATEGORIES:Herren
CREATED:20260326T212928
SUMMARY:1.Kreisklasse - SpG Sperenberg/Mellensee/Wünsdorf
LOCATION:Sportplatz Kummersdorf-Gut
DESCRIPTION:
DTSTAMP:20260423T115654
DTSTART;TZID=Europe/Berlin:20260503T130000
DTEND;TZID=Europe/Berlin:20260503T140000
SEQUENCE:0
TRANSP:OPAQUE
END:VEVENT
END:VCALENDAR