BEGIN:VCALENDAR
VERSION:2.0
PRODID:-//jEvents 2.0 for Joomla//EN
CALSCALE:GREGORIAN
METHOD:PUBLISH
BEGIN:VTIMEZONE
TZID:Europe/Berlin
END:VTIMEZONE
BEGIN:VEVENT
UID:CSVConvert9ed20736fdd147166a2655bffda53f10
CATEGORIES:B-Jun
CREATED:20260326T212928
SUMMARY:SpG Wünsdorf/Mellensee/Sperenberg - SpG Blankenfelde/Dahlewitz II
LOCATION:Sportanlage Burgberg
DESCRIPTION:
DTSTAMP:20260423T151734
DTSTART;TZID=Europe/Berlin:20260530T130000
DTEND;TZID=Europe/Berlin:20260530T140000
SEQUENCE:0
TRANSP:OPAQUE
END:VEVENT
END:VCALENDAR