BEGIN:VCALENDAR
VERSION:2.0
PRODID:-//jEvents 2.0 for Joomla//EN
CALSCALE:GREGORIAN
METHOD:PUBLISH
BEGIN:VTIMEZONE
TZID:Europe/Berlin
END:VTIMEZONE
BEGIN:VEVENT
UID:CSVConvert261602d9fbcb57ae5f3b639b66d0dbeb
CATEGORIES:E-Jun
CREATED:20260326T212928
SUMMARY:SpG Mellensee/Sperenberg - FSV Admira II
LOCATION:BBG-Arena Mellensee
DESCRIPTION:
DTSTAMP:20260423T115653
DTSTART;TZID=Europe/Berlin:20260502T100000
DTEND;TZID=Europe/Berlin:20260502T110000
SEQUENCE:0
TRANSP:OPAQUE
END:VEVENT
END:VCALENDAR