BEGIN:VCALENDAR
VERSION:2.0
PRODID:-//jEvents 2.0 for Joomla//EN
CALSCALE:GREGORIAN
METHOD:PUBLISH
BEGIN:VTIMEZONE
TZID:Europe/Berlin
END:VTIMEZONE
BEGIN:VEVENT
UID:CSVConvert38be10c8c90051062cd8f016048bdb2e
CATEGORIES:Herren
CREATED:20260326T212928
SUMMARY:1.Kreisklasse - SpG Sperenberg/Mellensee/Wünsdorf
LOCATION:Sportplatz Kummersdorf-Gut
DESCRIPTION:
DTSTAMP:20260423T151740
DTSTART;TZID=Europe/Berlin:20260412T130000
DTEND;TZID=Europe/Berlin:20260412T140000
SEQUENCE:0
TRANSP:OPAQUE
END:VEVENT
END:VCALENDAR